BEGIN:VCALENDAR
VERSION:2.0
PRODID:-//Géopolis - Confédération Française des Acteurs en Sciences de la 
 Terre//NONSGML kigkonsult.se iCalcreator 2.30.10//
CALSCALE:GREGORIAN
METHOD:PUBLISH
UID:c00997f8-2088-49c8-8763-84f68cfb141c
X-WR-CALNAME:iCagenda
X-WR-CALDESC:Event Management Extension for Joomla!
X-WR-RELCALID:3E26604A-50F4-4449-8B3E-E4F4932D05B5
X-WR-TIMEZONE:UTC
BEGIN:VTIMEZONE
TZID:UTC
END:VTIMEZONE
BEGIN:VEVENT
UID:f78966a2-c27b-47f2-b70b-42da30f27276
DTSTAMP:20260422T032620Z
CATEGORIES:Bourses Minéraux & Fossiles
CLASS:PUBLIC
DESCRIPTION:
DTSTART:20260523T100000Z
DTEND:20260524T180000Z
GEO:+48.523006;+2.020479
LOCATION:Salle de la Gaudree rue d'Orsonville à Dourdan 91410
ORGANIZER:
SEQUENCE:1
SUMMARY:39eme bourse aux minéraux - Dourdan
TRANSP:OPAQUE
URL:https://www.geopolis.fr/agenda/toutes-les-manifestations/757-39eme-bour
 se-aux-mineraux-dourdan.html
END:VEVENT
END:VCALENDAR
