BEGIN:VCALENDAR
VERSION:2.0
PRODID:-//Géopolis - Confédération Française des Acteurs en Sciences de la 
 Terre//NONSGML kigkonsult.se iCalcreator 2.30.10//
CALSCALE:GREGORIAN
METHOD:PUBLISH
UID:8f3ce065-6950-4b92-9fdc-2a05fa490738
X-WR-CALNAME:iCagenda
X-WR-CALDESC:Event Management Extension for Joomla!
X-WR-RELCALID:3E26604A-50F4-4449-8B3E-E4F4932D05B5
X-WR-TIMEZONE:UTC
BEGIN:VTIMEZONE
TZID:UTC
END:VTIMEZONE
BEGIN:VEVENT
UID:4db6682a-3528-416c-821c-64aa497e5da4
DTSTAMP:20260420T091001Z
CATEGORIES:Bourses Minéraux & Fossiles
CLASS:PUBLIC
DESCRIPTION;ALTREP="CID:<FFFF__=0ABBE548DFE235B58f9e8a93d@coffeebean.com>":
 \n\n\n\n\n\nMini-conférences\, expositions\, jeux pédagogiques pour les en
 fants\, tombola\, etc.\nTarif 2€. Voire&nbsp\;http://www.almf.fr\nContact 
 :&nbsp\;\n\n\n\n&nbsp\;\n\n\n&nbsp\;\n\n\n\n\nJean Luc Deville\nResponsabl
 e Salon Minéralogique de Lorient.\n1 Stang Lamarere - 29300 TREMEVEN\ntél 
 : 07 80 40 42 55&nbsp\; ou&nbsp\; 09 53 37 30 04\n\njean-luc.deville@gmx.f
 r
DTSTART:20211002T100000Z
DTEND:20211003T183000Z
GEO:+47.745415;-3.360858
LOCATION:Palais des Congrés
ORGANIZER;CN=:jean-luc.deville@gmx.fr
SEQUENCE:1
SUMMARY:27ème Salon Minéraux et Fossiles - Lorient (56)
TRANSP:OPAQUE
URL:https://www.geopolis.fr/agenda/toutes-les-manifestations/302-27eme-salo
 n-mineraux-et-fossiles-de-lorient.html
END:VEVENT
END:VCALENDAR
