BEGIN:VCALENDAR
VERSION:2.0
PRODID:-//Géopolis - Confédération Française des Acteurs en Sciences de la 
 Terre//NONSGML kigkonsult.se iCalcreator 2.30.10//
CALSCALE:GREGORIAN
METHOD:PUBLISH
UID:87b754d2-adaa-43c3-b10c-92a5e404905a
X-WR-CALNAME:iCagenda
X-WR-CALDESC:Event Management Extension for Joomla!
X-WR-RELCALID:3E26604A-50F4-4449-8B3E-E4F4932D05B5
X-WR-TIMEZONE:UTC
BEGIN:VTIMEZONE
TZID:UTC
END:VTIMEZONE
BEGIN:VEVENT
UID:ab2c0437-3ad9-409c-9abe-5cb32c04a10c
DTSTAMP:20260425T013402Z
CATEGORIES:Bourses Minéraux & Fossiles
CLASS:PUBLIC
DESCRIPTION;ALTREP="CID:<FFFF__=0ABBE548DFE235B58f9e8a93d@coffeebean.com>":
 Site internet :https://www.facebook.com/BDEGeolCF/\nHoraires et prix : 9h 
 -18hPrix : 2 euros\, gratuits pour les -12 ans et les &eacute\;tudiants.\n
 Nom du contact pour cette manifestation : Vincent Monchal &amp\; Sophie Gr
 aul\nAdresse mail de contact :&nbsp\;:v.monchal@laposte.net \; sophiegraul
 @orange.fr
DTSTART:20160430T090000Z
DTEND:20160501T190000Z
GEO:+45.753616;+3.086051
LOCATION:Salle des fêtes de Beaumont
ORGANIZER;CN=:v.monchal@laposte.net
SEQUENCE:1
SUMMARY:2ème Bourse aux minéraux du BDE de Géologie de Clermont-Ferrand
TRANSP:OPAQUE
URL:https://www.geopolis.fr/agenda/toutes-les-manifestations-2/9-2eme-bours
 e-aux-mineraux-du-bde-de-geologie-de-clermont-ferrand.html
END:VEVENT
END:VCALENDAR
