BEGIN:VCALENDAR
VERSION:2.0
PRODID:-//Géopolis - Confédération Française des Acteurs en Sciences de la 
 Terre//NONSGML kigkonsult.se iCalcreator 2.30.10//
CALSCALE:GREGORIAN
METHOD:PUBLISH
UID:b19c25b7-352b-455f-adf9-ff50af7908f5
X-WR-CALNAME:iCagenda
X-WR-CALDESC:Event Management Extension for Joomla!
X-WR-RELCALID:3E26604A-50F4-4449-8B3E-E4F4932D05B5
X-WR-TIMEZONE:UTC
BEGIN:VTIMEZONE
TZID:UTC
END:VTIMEZONE
BEGIN:VEVENT
UID:426d097a-10eb-4836-9703-aa9197b04d78
DTSTAMP:20260424T073643Z
CATEGORIES:Evènements
CLASS:PUBLIC
DESCRIPTION:
DTSTART:20260418T100000Z
DTEND:20260419T180000Z
GEO:+43.30341;-0.378464
LOCATION:Pau
ORGANIZER;CN=:pat.henriquel@gmail.com
SEQUENCE:1
SUMMARY:37ème Salon Minéraux & Fossiles de PAU
TRANSP:OPAQUE
URL:https://www.geopolis.fr/agenda/toutes-les-manifestations-2/821-37-eme-s
 alon-mineraux-fossiles-de-pau-2.html
END:VEVENT
END:VCALENDAR
