BEGIN:VCALENDAR
VERSION:2.0
PRODID:-//Géopolis - Confédération Française des Acteurs en Sciences de la 
 Terre//NONSGML kigkonsult.se iCalcreator 2.30.10//
CALSCALE:GREGORIAN
METHOD:PUBLISH
UID:efd20813-540d-4227-855f-7c4bb71f9a06
X-WR-CALNAME:iCagenda
X-WR-CALDESC:Event Management Extension for Joomla!
X-WR-RELCALID:3E26604A-50F4-4449-8B3E-E4F4932D05B5
X-WR-TIMEZONE:UTC
BEGIN:VTIMEZONE
TZID:UTC
END:VTIMEZONE
BEGIN:VEVENT
UID:4a834770-d9e5-4e35-824b-10dcf6232dca
DTSTAMP:20260419T205454Z
CATEGORIES:Bourses Minéraux & Fossiles
CLASS:PUBLIC
DESCRIPTION:
DTSTART:20260228T100000Z
DTEND:20260301T140000Z
GEO:+47.501564;+0.780964
LOCATION:Monnaie
ORGANIZER;CN=:noulin.monnaie@live.fr
SEQUENCE:1
SUMMARY:39ème salon - exposition de minéraux et fossiles
TRANSP:OPAQUE
URL:https://www.geopolis.fr/agenda/toutes-les-manifestations-2/791-39eme-sa
 lon-exposition-de-mineraux-et-fossiles-2.html
END:VEVENT
END:VCALENDAR
