BEGIN:VCALENDAR
VERSION:2.0
PRODID:-//Géopolis - Confédération Française des Acteurs en Sciences de la 
 Terre//NONSGML kigkonsult.se iCalcreator 2.30.10//
CALSCALE:GREGORIAN
METHOD:PUBLISH
UID:310a91e4-3cdb-41fe-86a7-aa192c2cef2e
X-WR-CALNAME:iCagenda
X-WR-CALDESC:Event Management Extension for Joomla!
X-WR-RELCALID:3E26604A-50F4-4449-8B3E-E4F4932D05B5
X-WR-TIMEZONE:UTC
BEGIN:VTIMEZONE
TZID:UTC
END:VTIMEZONE
BEGIN:VEVENT
UID:7113ec16-1b4a-4fa3-9e25-386366bb87fa
DTSTAMP:20260424T173947Z
CATEGORIES:Bourses Minéraux & Fossiles
CLASS:PUBLIC
DESCRIPTION:
DTSTART:20260228T100000Z
DTEND:20260301T180000Z
GEO:+47.635952;+6.845587
LOCATION:CCSRB\, centre culturel résidence bellevue\, 4 rue de madrid\, 900
 00 Belfort
ORGANIZER;CN=:gehant.guy@orange.fr
SEQUENCE:1
SUMMARY:51 ème bourse Minéraux Fossiles
TRANSP:OPAQUE
URL:https://www.geopolis.fr/agenda/toutes-les-manifestations-2/751-51-eme-b
 ourse-mineraux-fossiles.html
END:VEVENT
END:VCALENDAR
