BEGIN:VCALENDAR
VERSION:2.0
PRODID:-//Géopolis - Confédération Française des Acteurs en Sciences de la 
 Terre//NONSGML kigkonsult.se iCalcreator 2.30.10//
CALSCALE:GREGORIAN
METHOD:PUBLISH
UID:63817fd4-5c26-47c1-9c90-55f56e572256
X-WR-CALNAME:iCagenda
X-WR-CALDESC:Event Management Extension for Joomla!
X-WR-RELCALID:3E26604A-50F4-4449-8B3E-E4F4932D05B5
X-WR-TIMEZONE:UTC
BEGIN:VTIMEZONE
TZID:UTC
END:VTIMEZONE
BEGIN:VEVENT
UID:cc20239a-103d-42a7-af9c-47caaa0d3917
DTSTAMP:20260420T223739Z
CATEGORIES:Bourses Minéraux & Fossiles
CLASS:PUBLIC
DESCRIPTION:
DTSTART:20250420T090000Z
DTEND:20250420T160000Z
GEO:+42.474148;+2.661832
LOCATION:Espace Méditerranée d'Amélie-les-Bains
ORGANIZER;CN=:avmp-66@orange.fr
SEQUENCE:1
SUMMARY:Bourse d'échanges d'Amélie-les-Bains (66110)
TRANSP:OPAQUE
URL:https://www.geopolis.fr/agenda/toutes-les-manifestations-2/684-bourse-d
 echanges-damelie-les-bains-66110/2025-04-20-09-00.html
END:VEVENT
END:VCALENDAR
