BEGIN:VCALENDAR
VERSION:2.0
PRODID:-//Géopolis - Confédération Française des Acteurs en Sciences de la 
 Terre//NONSGML kigkonsult.se iCalcreator 2.30.10//
CALSCALE:GREGORIAN
METHOD:PUBLISH
UID:8b75dc42-b8f6-43c8-b04a-00eaceb75d6c
X-WR-CALNAME:iCagenda
X-WR-CALDESC:Event Management Extension for Joomla!
X-WR-RELCALID:3E26604A-50F4-4449-8B3E-E4F4932D05B5
X-WR-TIMEZONE:UTC
BEGIN:VTIMEZONE
TZID:UTC
END:VTIMEZONE
BEGIN:VEVENT
UID:cbd081b6-7a6f-4553-951a-abd81c3d4bf8
DTSTAMP:20260421T172918Z
CATEGORIES:Bourses Minéraux & Fossiles
CLASS:PUBLIC
DESCRIPTION:
DTSTART:20250406T090000Z
DTEND:20250406T180000Z
GEO:+48.873695;+2.64121
LOCATION:Espace Monjaret rue Constant Melet 77360 Vaires sur Marne
ORGANIZER;CN=:lebeauericmineral@gmail.com
SEQUENCE:1
SUMMARY:28 ème Bourse de Vaires-sur-Marne
TRANSP:OPAQUE
URL:https://www.geopolis.fr/agenda/toutes-les-manifestations-2/677-28-eme-b
 ourse-de-vaires-sur-marne/2025-04-06-09-00.html
END:VEVENT
END:VCALENDAR
