BEGIN:VCALENDAR
VERSION:2.0
PRODID:-//Géopolis - Confédération Française des Acteurs en Sciences de la 
 Terre//NONSGML kigkonsult.se iCalcreator 2.30.10//
CALSCALE:GREGORIAN
METHOD:PUBLISH
UID:439a6742-4bc5-46a6-b796-5b19c5e32e36
X-WR-CALNAME:iCagenda
X-WR-CALDESC:Event Management Extension for Joomla!
X-WR-RELCALID:3E26604A-50F4-4449-8B3E-E4F4932D05B5
X-WR-TIMEZONE:UTC
BEGIN:VTIMEZONE
TZID:UTC
END:VTIMEZONE
BEGIN:VEVENT
UID:efcd2799-5bd5-48e8-9d02-27d636b75c5c
DTSTAMP:20260422T123436Z
CATEGORIES:Bourses Minéraux & Fossiles
CLASS:PUBLIC
DESCRIPTION:
DTSTART:20250118T093000Z
DTEND:20250119T190000Z
GEO:+45.525089;+4.259481
LOCATION:Andrézieux -Bouthéon
ORGANIZER;CN=:zenstonesevent@gmail.com
SEQUENCE:1
SUMMARY:Salon minéraux de Andrézieux-Bouthéon
TRANSP:OPAQUE
URL:https://www.geopolis.fr/agenda/toutes-les-manifestations-2/631-salon-mi
 neraux-2.html
END:VEVENT
END:VCALENDAR
