BEGIN:VCALENDAR
VERSION:2.0
PRODID:-//Géopolis - Confédération Française des Acteurs en Sciences de la 
 Terre//NONSGML kigkonsult.se iCalcreator 2.30.10//
CALSCALE:GREGORIAN
METHOD:PUBLISH
UID:ed5986d2-5bb4-4be0-b75c-f3a2b12ed09a
X-WR-CALNAME:iCagenda
X-WR-CALDESC:Event Management Extension for Joomla!
X-WR-RELCALID:3E26604A-50F4-4449-8B3E-E4F4932D05B5
X-WR-TIMEZONE:UTC
BEGIN:VTIMEZONE
TZID:UTC
END:VTIMEZONE
BEGIN:VEVENT
UID:1ae129fb-15f1-43f4-8ff1-ccf2e69586c0
DTSTAMP:20260420T134245Z
CATEGORIES:Bourses Minéraux & Fossiles
CLASS:PUBLIC
DESCRIPTION:
DTSTART:20241031T140000Z
DTEND:20241031T190000Z
GEO:+48.898457;+2.386678
LOCATION:Paris Event Center
ORGANIZER:
SEQUENCE:1
SUMMARY:Salon Minéraux et Bijoux
TRANSP:OPAQUE
URL:https://www.geopolis.fr/agenda/toutes-les-manifestations-2/624-salon-mi
 neraux-et-bijoux-2/2024-10-31-14-00.html
END:VEVENT
END:VCALENDAR
