BEGIN:VCALENDAR
VERSION:2.0
PRODID:-//Géopolis - Confédération Française des Acteurs en Sciences de la 
 Terre//NONSGML kigkonsult.se iCalcreator 2.30.10//
CALSCALE:GREGORIAN
METHOD:PUBLISH
UID:2f947fbd-f371-4310-9697-7837ef5a61af
X-WR-CALNAME:iCagenda
X-WR-CALDESC:Event Management Extension for Joomla!
X-WR-RELCALID:3E26604A-50F4-4449-8B3E-E4F4932D05B5
X-WR-TIMEZONE:UTC
BEGIN:VTIMEZONE
TZID:UTC
END:VTIMEZONE
BEGIN:VEVENT
UID:2c0ccde8-9243-430b-ae1b-73b5bdcdfb47
DTSTAMP:20260420T055116Z
CATEGORIES:Bourses Minéraux & Fossiles
CLASS:PUBLIC
DESCRIPTION:
DTSTART:20231110T140000Z
DTEND:20231110T180000Z
GEO:+45.77713;+4.85957
LOCATION:Espace TÊTE d'OR
ORGANIZER;CN=:caroline.martaud@wanadoo.fr
SEQUENCE:1
SUMMARY:MINERALYON 2023
TRANSP:OPAQUE
URL:https://www.geopolis.fr/agenda/toutes-les-manifestations-2/460-mineraly
 on-2023/2023-11-10-14-00.html
END:VEVENT
END:VCALENDAR
