BEGIN:VCALENDAR
VERSION:2.0
PRODID:-//Géopolis - Confédération Française des Acteurs en Sciences de la 
 Terre//NONSGML kigkonsult.se iCalcreator 2.30.10//
CALSCALE:GREGORIAN
METHOD:PUBLISH
UID:2628d9d8-9e90-46bb-9623-779e9805872d
X-WR-CALNAME:iCagenda
X-WR-CALDESC:Event Management Extension for Joomla!
X-WR-RELCALID:3E26604A-50F4-4449-8B3E-E4F4932D05B5
X-WR-TIMEZONE:UTC
BEGIN:VTIMEZONE
TZID:UTC
END:VTIMEZONE
BEGIN:VEVENT
UID:a0b1a188-8246-4e5c-906d-242f8b02c052
DTSTAMP:20260421T081236Z
CATEGORIES:Bourses Minéraux & Fossiles
CLASS:PUBLIC
DESCRIPTION;ALTREP="CID:<FFFF__=0ABBE548DFE235B58f9e8a93d@coffeebean.com>":
 Salon Minéralogie du 21 et 22 mai à Coulounieix-Chamiers (24).\nUne quinza
 ine d'exposants présenterons une multitude de minéraux\, fossiles et pierr
 es fines du monde entier.\nOuvert au public de 9h30 à 18h30 sans interrupt
 ion sur les 2 jours.\nL'entrée et à 1€ et gratuite moins de 16 ans.\n&nbsp
 \;\nTombola gratuite pour tous les enfants.\n&nbsp\;\n&nbsp\;
DTSTART:20220522T214400Z
DTEND:20220522T214400Z
GEO:+45.17207;+0.691762
LOCATION:Salle Gérard Philipe
ORGANIZER;CN=:jc-hyvernaud@sfr.fr
SEQUENCE:1
SUMMARY:Salon de la Minéralogie - Coulounieix-Chamiers (24)
TRANSP:OPAQUE
URL:https://www.geopolis.fr/agenda/toutes-les-manifestations-2/384-salon-de
 -la-mineralogie/2022-05-22-21-44.html
END:VEVENT
END:VCALENDAR
