BEGIN:VCALENDAR
VERSION:2.0
PRODID:-//Géopolis - Confédération Française des Acteurs en Sciences de la 
 Terre//NONSGML kigkonsult.se iCalcreator 2.30.10//
CALSCALE:GREGORIAN
METHOD:PUBLISH
UID:ea5648b1-0633-42df-ae6e-c4c0e58bc236
X-WR-CALNAME:iCagenda
X-WR-CALDESC:Event Management Extension for Joomla!
X-WR-RELCALID:3E26604A-50F4-4449-8B3E-E4F4932D05B5
X-WR-TIMEZONE:UTC
BEGIN:VTIMEZONE
TZID:UTC
END:VTIMEZONE
BEGIN:VEVENT
UID:98426fda-655e-46af-9f08-c71b239fd1cd
DTSTAMP:20260421T095833Z
CATEGORIES:Bourses Minéraux & Fossiles
CLASS:PUBLIC
DESCRIPTION:
DTSTART:20200404T090000Z
DTEND:20200404T180000Z
GEO:+46.486889;+0.307476
LOCATION:Complexe culturel et sportif (rue des Genebres) à Iteuil (86240)
ORGANIZER;CN=:apapcourrier@gmail.com
SEQUENCE:1
SUMMARY:Bourse de de fossiles et minéraux - Iteuil (86)
TRANSP:OPAQUE
URL:https://www.geopolis.fr/agenda/toutes-les-manifestations-2/272-bourse-d
 e-de-fossiles-et-mineraux-d-iteuil.html
END:VEVENT
END:VCALENDAR
