BEGIN:VCALENDAR
VERSION:2.0
PRODID:-//Géopolis - Confédération Française des Acteurs en Sciences de la 
 Terre//NONSGML kigkonsult.se iCalcreator 2.30.10//
CALSCALE:GREGORIAN
METHOD:PUBLISH
UID:9d3df220-760a-43be-8c82-283d1e088cba
X-WR-CALNAME:iCagenda
X-WR-CALDESC:Event Management Extension for Joomla!
X-WR-RELCALID:3E26604A-50F4-4449-8B3E-E4F4932D05B5
X-WR-TIMEZONE:UTC
BEGIN:VTIMEZONE
TZID:UTC
END:VTIMEZONE
BEGIN:VEVENT
UID:83d19e49-a728-40ad-9422-c79c8774c3f1
DTSTAMP:20260422T090242Z
CATEGORIES:Evènements
CLASS:PUBLIC
DESCRIPTION:
DTSTART:20200329T090000Z
DTEND:20200405T180000Z
GEO:+46.486851;+0.307602
LOCATION:Complexe Culturel et Sportif d'ITEUIL
ORGANIZER;CN=:apapcourrier@gmail.com
SEQUENCE:1
SUMMARY:Exposition : La vie au Carbonifère - Iteuil (86)
TRANSP:OPAQUE
URL:https://www.geopolis.fr/agenda/toutes-les-manifestations-2/271-expositi
 on-la-vie-au-carbonifere.html
END:VEVENT
END:VCALENDAR
