BEGIN:VCALENDAR
VERSION:2.0
PRODID:-//Géopolis - Confédération Française des Acteurs en Sciences de la 
 Terre//NONSGML kigkonsult.se iCalcreator 2.30.10//
CALSCALE:GREGORIAN
METHOD:PUBLISH
UID:15cbbf0d-5ab5-4ee1-a978-d76cf16f92b6
X-WR-CALNAME:iCagenda
X-WR-CALDESC:Event Management Extension for Joomla!
X-WR-RELCALID:3E26604A-50F4-4449-8B3E-E4F4932D05B5
X-WR-TIMEZONE:UTC
BEGIN:VTIMEZONE
TZID:UTC
END:VTIMEZONE
BEGIN:VEVENT
UID:defa6b12-110c-44eb-bc9f-33d9b0e5e53f
DTSTAMP:20260423T113154Z
CATEGORIES:Bourses Minéraux & Fossiles
CLASS:PUBLIC
DESCRIPTION;ALTREP="CID:<FFFF__=0ABBE548DFE235B58f9e8a93d@coffeebean.com>":
 Lieu de l'exposition : SAINT NAZAIRE Alvéole 122&nbsp\; de la BASE DES SOU
 S MARINS\nContacte : M LAMACQ 06 37 65 81 50
DTSTART:20200530T100000Z
DTEND:20200531T190000Z
GEO:+47.276062;-2.203063
LOCATION:SAINT NAZAIRE
ORGANIZER;CN=:GM.TOUBLANC@GMAIL.COM
SEQUENCE:1
SUMMARY:45ème bourse aux minéraux et fossiles - Saint-Nazaire (45)
TRANSP:OPAQUE
URL:https://www.geopolis.fr/agenda/toutes-les-manifestations-2/263-saint-na
 zaire-45-bourse-aux-mineraux-et-fossiles.html
END:VEVENT
END:VCALENDAR
