BEGIN:VCALENDAR
VERSION:2.0
PRODID:-//Géopolis - Confédération Française des Acteurs en Sciences de la 
 Terre//NONSGML kigkonsult.se iCalcreator 2.30.10//
CALSCALE:GREGORIAN
METHOD:PUBLISH
UID:b12ab6c2-fbae-483e-9d3e-090a004825c2
X-WR-CALNAME:iCagenda
X-WR-CALDESC:Event Management Extension for Joomla!
X-WR-RELCALID:3E26604A-50F4-4449-8B3E-E4F4932D05B5
X-WR-TIMEZONE:UTC
BEGIN:VTIMEZONE
TZID:UTC
END:VTIMEZONE
BEGIN:VEVENT
UID:41778298-ac73-4a03-b698-8e9f9251e3c1
DTSTAMP:20260423T173902Z
CATEGORIES:Bourses Minéraux & Fossiles
CLASS:PUBLIC
DESCRIPTION:
DTSTART:20191005T100000Z
DTEND:20191006T180000Z
GEO:+49.382912;+3.328518
LOCATION:Salle Simone Veil
ORGANIZER;CN=:j-m.chmidlin@club-internet.fr
SEQUENCE:1
SUMMARY:43éme Bourse de Minéraux et Fossiles - Soissons
TRANSP:OPAQUE
URL:https://www.geopolis.fr/agenda/toutes-les-manifestations-2/199-43eme-bo
 urse-de-mineraux-et-fossiles.html
END:VEVENT
END:VCALENDAR
