BEGIN:VCALENDAR
VERSION:2.0
PRODID:-//Géopolis - Confédération Française des Acteurs en Sciences de la 
 Terre//NONSGML kigkonsult.se iCalcreator 2.30.10//
CALSCALE:GREGORIAN
METHOD:PUBLISH
UID:35a78ee4-bd6e-4749-9f23-e02b964e72aa
X-WR-CALNAME:iCagenda
X-WR-CALDESC:Event Management Extension for Joomla!
X-WR-RELCALID:3E26604A-50F4-4449-8B3E-E4F4932D05B5
X-WR-TIMEZONE:UTC
BEGIN:VTIMEZONE
TZID:UTC
END:VTIMEZONE
BEGIN:VEVENT
UID:43c06fcc-06cd-4d0a-beaa-5afd8ef25f2e
DTSTAMP:20260421T075726Z
CATEGORIES:Bourses Minéraux & Fossiles
CLASS:PUBLIC
DESCRIPTION:
DTSTART:20261010T090000Z
DTEND:20261011T180000Z
GEO:+47.88702;+7.228804
LOCATION:Soultz
ORGANIZER;CN=:antoinegil-68@hotmail.fr
SEQUENCE:1
SUMMARY:KALITROC
TRANSP:OPAQUE
URL:https://www.geopolis.fr/agenda-2/toutes-les-manifestations/798-kalitroc
 -3.html
END:VEVENT
END:VCALENDAR
