BEGIN:VCALENDAR
VERSION:2.0
PRODID:-//Géopolis - Confédération Française des Acteurs en Sciences de la 
 Terre//NONSGML kigkonsult.se iCalcreator 2.30.10//
CALSCALE:GREGORIAN
METHOD:PUBLISH
UID:6cbfb4fe-e88a-44ac-9bcc-2457b1e0dbeb
X-WR-CALNAME:iCagenda
X-WR-CALDESC:Event Management Extension for Joomla!
X-WR-RELCALID:3E26604A-50F4-4449-8B3E-E4F4932D05B5
X-WR-TIMEZONE:UTC
BEGIN:VTIMEZONE
TZID:UTC
END:VTIMEZONE
BEGIN:VEVENT
UID:7f1e4a19-8363-4f80-89a9-e5078880200f
DTSTAMP:20260423T185756Z
CATEGORIES:Evènements
CLASS:PUBLIC
DESCRIPTION:
DTSTART:20260411T090000Z
DTEND:20260411T180000Z
GEO:+48.679382;+2.534531
LOCATION:Salle Espace 2000\, Rue de la Gare (près de la gare de Boussy-Sain
 t-Antoine).
ORGANIZER;CN=:micromonteurs75@gmail.com
SEQUENCE:1
SUMMARY:Bourse d'échanges de microminéraux
TRANSP:OPAQUE
URL:https://www.geopolis.fr/agenda-2/toutes-les-manifestations/793-bourse-d
 echanges-de-micromineraux/2026-04-11-09-00.html
END:VEVENT
END:VCALENDAR
