BEGIN:VCALENDAR
VERSION:2.0
PRODID:-//Géopolis - Confédération Française des Acteurs en Sciences de la 
 Terre//NONSGML kigkonsult.se iCalcreator 2.30.10//
CALSCALE:GREGORIAN
METHOD:PUBLISH
UID:8d333b5e-ebe6-44d3-9d5e-b5c398ac8c75
X-WR-CALNAME:iCagenda
X-WR-CALDESC:Event Management Extension for Joomla!
X-WR-RELCALID:3E26604A-50F4-4449-8B3E-E4F4932D05B5
X-WR-TIMEZONE:UTC
BEGIN:VTIMEZONE
TZID:UTC
END:VTIMEZONE
BEGIN:VEVENT
UID:1db3b965-2e32-425c-bd53-1dfbd0acacdd
DTSTAMP:20260426T042007Z
CATEGORIES:Bourses Minéraux & Fossiles
CLASS:PUBLIC
DESCRIPTION:
DTSTART:20261024T100000Z
DTEND:20261024T180000Z
GEO:+48.070229;+1.328495
LOCATION:Salle St Jean
ORGANIZER;CN=:ass.crystal.dream@gmail.com
SEQUENCE:1
SUMMARY:Salon minéraux - Châteaudun
TRANSP:OPAQUE
URL:https://www.geopolis.fr/agenda-2/toutes-les-manifestations/784-salon-mi
 neraux-chateaudun/2026-10-24-10-00.html
END:VEVENT
END:VCALENDAR
