BEGIN:VCALENDAR
VERSION:2.0
PRODID:-//Géopolis - Confédération Française des Acteurs en Sciences de la 
 Terre//NONSGML kigkonsult.se iCalcreator 2.30.10//
CALSCALE:GREGORIAN
METHOD:PUBLISH
UID:b9254321-2d5d-4020-b036-04c99c7b417c
X-WR-CALNAME:iCagenda
X-WR-CALDESC:Event Management Extension for Joomla!
X-WR-RELCALID:3E26604A-50F4-4449-8B3E-E4F4932D05B5
X-WR-TIMEZONE:UTC
BEGIN:VTIMEZONE
TZID:UTC
END:VTIMEZONE
BEGIN:VEVENT
UID:dd44f86b-46e4-466f-9106-1d5d1c6baaa3
DTSTAMP:20260421T082728Z
CATEGORIES:Bourses Minéraux & Fossiles
CLASS:PUBLIC
DESCRIPTION:
DTSTART:20260926T100000Z
DTEND:20260927T183000Z
GEO:+47.633186;+1.28486
LOCATION:Complexe Fosséen 41330 FOSSE
ORGANIZER;CN=:presidence.mfp.41@outlook.com
SEQUENCE:1
SUMMARY:Bourse aux Mineraux Fossiles Bijoux
TRANSP:OPAQUE
URL:https://www.geopolis.fr/agenda-2/toutes-les-manifestations/774-bourse-a
 ux-mineraux-fossiles-bijoux.html
END:VEVENT
END:VCALENDAR
