BEGIN:VCALENDAR
VERSION:2.0
PRODID:-//Géopolis - Confédération Française des Acteurs en Sciences de la 
 Terre//NONSGML kigkonsult.se iCalcreator 2.30.10//
CALSCALE:GREGORIAN
METHOD:PUBLISH
UID:264a62d8-685e-42c0-8187-28def78c1889
X-WR-CALNAME:iCagenda
X-WR-CALDESC:Event Management Extension for Joomla!
X-WR-RELCALID:3E26604A-50F4-4449-8B3E-E4F4932D05B5
X-WR-TIMEZONE:UTC
BEGIN:VTIMEZONE
TZID:UTC
END:VTIMEZONE
BEGIN:VEVENT
UID:ba18a3b9-cfe6-4078-925b-1d80f2ba87c6
DTSTAMP:20260424T074453Z
CATEGORIES:Bourses Minéraux & Fossiles
CLASS:PUBLIC
DESCRIPTION:
DTSTART:20240928T100000Z
DTEND:20240929T180000Z
GEO:+47.635399;+1.284285
LOCATION:Fossé
ORGANIZER;CN=:gelis.jerome@wanadoo.fr
SEQUENCE:1
SUMMARY:Bourse Minéraux & Fossiles - FOSSE-BLOIS
TRANSP:OPAQUE
URL:https://www.geopolis.fr/agenda-2/toutes-les-manifestations/606-bourse-f
 osse-blois.html
END:VEVENT
END:VCALENDAR
