BEGIN:VCALENDAR
VERSION:2.0
PRODID:-//Géopolis - Confédération Française des Acteurs en Sciences de la 
 Terre//NONSGML kigkonsult.se iCalcreator 2.30.10//
CALSCALE:GREGORIAN
METHOD:PUBLISH
UID:273297e8-c21e-4d7c-8b1b-2db60ed20b14
X-WR-CALNAME:iCagenda
X-WR-CALDESC:Event Management Extension for Joomla!
X-WR-RELCALID:3E26604A-50F4-4449-8B3E-E4F4932D05B5
X-WR-TIMEZONE:UTC
BEGIN:VTIMEZONE
TZID:UTC
END:VTIMEZONE
BEGIN:VEVENT
UID:2f8af28b-3b73-48da-945b-748f5363b4b5
DTSTAMP:20260421T115448Z
CATEGORIES:Bourses Minéraux & Fossiles
CLASS:PUBLIC
DESCRIPTION:
DTSTART:20241005T090000Z
DTEND:20241005T100000Z
GEO:+47.887966;+7.231267
LOCATION:Salle MAB Soultz 68360
ORGANIZER:
SEQUENCE:1
SUMMARY:KALITROC
TRANSP:OPAQUE
URL:https://www.geopolis.fr/agenda-2/toutes-les-manifestations/583-kalitroc
 /2024-10-05-09-00.html
END:VEVENT
END:VCALENDAR
