BEGIN:VCALENDAR
VERSION:2.0
PRODID:-//Géopolis - Confédération Française des Acteurs en Sciences de la 
 Terre//NONSGML kigkonsult.se iCalcreator 2.30.10//
CALSCALE:GREGORIAN
METHOD:PUBLISH
UID:2c7a5dcc-0cad-473a-a8cd-9528347be824
X-WR-CALNAME:iCagenda
X-WR-CALDESC:Event Management Extension for Joomla!
X-WR-RELCALID:3E26604A-50F4-4449-8B3E-E4F4932D05B5
X-WR-TIMEZONE:UTC
BEGIN:VTIMEZONE
TZID:UTC
END:VTIMEZONE
BEGIN:VEVENT
UID:364d0ceb-ef79-43e0-a284-246377fb9442
DTSTAMP:20260423T035755Z
CATEGORIES:Bourses Minéraux & Fossiles
CLASS:PUBLIC
DESCRIPTION;ALTREP="CID:<FFFF__=0ABBE548DFE235B58f9e8a93d@coffeebean.com>":
 Vente de minéraux et fossiles du monde - animations pour les enfants : pêc
 he aux minéraux\, fouilles dans le bac à fossiles - exposition de squelett
 es de dinosaures\nprésentation de l'association - loteries
DTSTART:20221105T093000Z
DTEND:20221106T180000Z
GEO:+43.409958;+5.311653
LOCATION:Salle Tino Rossi
ORGANIZER;CN=:agpm13170@gmail.com
SEQUENCE:1
SUMMARY:30ème bourse minéraux fossiles - Les Pennes-Mirabeau (13)
TRANSP:OPAQUE
URL:https://www.geopolis.fr/agenda-2/toutes-les-manifestations/394-30eme-bo
 urse-mineraux-fossiles.html
END:VEVENT
END:VCALENDAR
