BEGIN:VCALENDAR
VERSION:2.0
PRODID:-//Géopolis - Confédération Française des Acteurs en Sciences de la 
 Terre//NONSGML kigkonsult.se iCalcreator 2.30.10//
CALSCALE:GREGORIAN
METHOD:PUBLISH
UID:7c74865b-128f-4c02-b1ba-400e7d7a690d
X-WR-CALNAME:iCagenda
X-WR-CALDESC:Event Management Extension for Joomla!
X-WR-RELCALID:3E26604A-50F4-4449-8B3E-E4F4932D05B5
X-WR-TIMEZONE:UTC
BEGIN:VTIMEZONE
TZID:UTC
END:VTIMEZONE
BEGIN:VEVENT
UID:a0feb4dc-9ef6-4835-83e8-59cdc9b517b7
DTSTAMP:20260419T131541Z
CATEGORIES:Bourses Minéraux & Fossiles
CLASS:PUBLIC
DESCRIPTION:
DTSTART:20260214T100000Z
DTEND:20260215T180000Z
GEO:+43.265831;-0.189405
LOCATION:Hall des Sports 64420 SOUMOULOU
ORGANIZER;CN=:davidchauvaud@yahoo.fr
SEQUENCE:1
SUMMARY:16e SALON MINERAUX FOSSILES BIJOUX
TRANSP:OPAQUE
URL:https://www.geopolis.fr/agenda-2/toutes-les-manifestations-2/764-16e-sa
 lon-mineraux-fossiles-bijoux-3.html
END:VEVENT
END:VCALENDAR
