BEGIN:VCALENDAR
VERSION:2.0
PRODID:-//Géopolis - Confédération Française des Acteurs en Sciences de la 
 Terre//NONSGML kigkonsult.se iCalcreator 2.30.10//
CALSCALE:GREGORIAN
METHOD:PUBLISH
UID:559e400d-e076-4c99-8a85-c19ae3552257
X-WR-CALNAME:iCagenda
X-WR-CALDESC:Event Management Extension for Joomla!
X-WR-RELCALID:3E26604A-50F4-4449-8B3E-E4F4932D05B5
X-WR-TIMEZONE:UTC
BEGIN:VTIMEZONE
TZID:UTC
END:VTIMEZONE
BEGIN:VEVENT
UID:37815b0a-ed68-4f4b-8083-7a5eb08849bc
DTSTAMP:20260421T205953Z
CATEGORIES:Bourses Minéraux & Fossiles
CLASS:PUBLIC
DESCRIPTION:
DTSTART:20251011T100000Z
DTEND:20251012T180000Z
GEO:+42.47419;+2.665332
LOCATION:Amélie-les-Bains (66110)     Espace Méditerranée
ORGANIZER;CN=:avmp-66@orange.fr
SEQUENCE:1
SUMMARY:Bourse Minéraux & Fossiles (Amélie-les-Bains )
TRANSP:OPAQUE
URL:https://www.geopolis.fr/agenda-2/toutes-les-manifestations-2/671-bourse
 -mineraux-fossiles-amelie-les-bains.html
END:VEVENT
END:VCALENDAR
