BEGIN:VCALENDAR
VERSION:2.0
PRODID:-//Géopolis - Confédération Française des Acteurs en Sciences de la 
 Terre//NONSGML kigkonsult.se iCalcreator 2.30.10//
CALSCALE:GREGORIAN
METHOD:PUBLISH
UID:6d400ad8-1556-465c-a2bf-8b268f8af59f
X-WR-CALNAME:iCagenda
X-WR-CALDESC:Event Management Extension for Joomla!
X-WR-RELCALID:3E26604A-50F4-4449-8B3E-E4F4932D05B5
X-WR-TIMEZONE:UTC
BEGIN:VTIMEZONE
TZID:UTC
END:VTIMEZONE
BEGIN:VEVENT
UID:aae6f0a9-bb21-42ff-9877-f5c837b139b1
DTSTAMP:20260422T210711Z
CATEGORIES:Bourses Minéraux & Fossiles
CLASS:PUBLIC
DESCRIPTION:
DTSTART:20250625T100000Z
DTEND:20250629T180000Z
GEO:+48.247665;+7.185118
LOCATION:Sainte-Marie-aux-Mines
ORGANIZER:
SEQUENCE:1
SUMMARY:60ème édition : Mineral & Gem
TRANSP:OPAQUE
URL:https://www.geopolis.fr/agenda-2/toutes-les-manifestations-2/667-60eme-
 edition-mineral-gem.html
END:VEVENT
END:VCALENDAR
