BEGIN:VCALENDAR
VERSION:2.0
PRODID:-//Géopolis - Confédération Française des Acteurs en Sciences de la 
 Terre//NONSGML kigkonsult.se iCalcreator 2.30.10//
CALSCALE:GREGORIAN
METHOD:PUBLISH
UID:369f4d07-6f7d-4c31-bb0e-f098c2431d3d
X-WR-CALNAME:iCagenda
X-WR-CALDESC:Event Management Extension for Joomla!
X-WR-RELCALID:3E26604A-50F4-4449-8B3E-E4F4932D05B5
X-WR-TIMEZONE:UTC
BEGIN:VTIMEZONE
TZID:UTC
END:VTIMEZONE
BEGIN:VEVENT
UID:97521c8d-b408-4f06-b9d3-ae92d0107941
DTSTAMP:20260421T162048Z
CATEGORIES:Bourses Minéraux & Fossiles
CLASS:PUBLIC
DESCRIPTION:
DTSTART:20240928T100000Z
DTEND:20240928T190000Z
GEO:+50.667065;+3.093616
LOCATION:Hippodrome Lille - 137 Bd Clemenceau\, 59700 Marcq-en-Barœul
ORGANIZER:
SEQUENCE:1
SUMMARY:Salon Minéraux et Bijoux
TRANSP:OPAQUE
URL:https://www.geopolis.fr/agenda-2/toutes-les-manifestations-2/590-salon-
 mineraux-et-bijoux/2024-09-28-10-00.html
END:VEVENT
END:VCALENDAR
