BEGIN:VCALENDAR
VERSION:2.0
PRODID:-//Géopolis - Confédération Française des Acteurs en Sciences de la 
 Terre//NONSGML kigkonsult.se iCalcreator 2.30.10//
CALSCALE:GREGORIAN
METHOD:PUBLISH
UID:bfaf2d71-9853-47c8-9492-7fa747660f83
X-WR-CALNAME:iCagenda
X-WR-CALDESC:Event Management Extension for Joomla!
X-WR-RELCALID:3E26604A-50F4-4449-8B3E-E4F4932D05B5
X-WR-TIMEZONE:UTC
BEGIN:VTIMEZONE
TZID:UTC
END:VTIMEZONE
BEGIN:VEVENT
UID:c504db77-659a-42bb-b1a7-bd651265d154
DTSTAMP:20260420T084204Z
CATEGORIES:Bourses Minéraux & Fossiles
CLASS:PUBLIC
DESCRIPTION:
DTSTART:20240727T093000Z
DTEND:20240727T190000Z
GEO:+49.170631;+5.348031
LOCATION:Thierville sur Meuse (près de Verdun)
ORGANIZER;CN=:zenstonesevents@outlook.fr
SEQUENCE:1
SUMMARY:Salon minéraux
TRANSP:OPAQUE
URL:https://www.geopolis.fr/agenda-2/toutes-les-manifestations-2/582-salon-
 mineraux/2024-07-27-09-30.html
END:VEVENT
END:VCALENDAR
