BEGIN:VCALENDAR
VERSION:2.0
PRODID:-//Géopolis - Confédération Française des Acteurs en Sciences de la 
 Terre//NONSGML kigkonsult.se iCalcreator 2.30.10//
CALSCALE:GREGORIAN
METHOD:PUBLISH
UID:8301faa9-3977-4aa2-b276-59aff45b8141
X-WR-CALNAME:iCagenda
X-WR-CALDESC:Event Management Extension for Joomla!
X-WR-RELCALID:3E26604A-50F4-4449-8B3E-E4F4932D05B5
X-WR-TIMEZONE:UTC
BEGIN:VTIMEZONE
TZID:UTC
END:VTIMEZONE
BEGIN:VEVENT
UID:4f787697-e596-41f7-8927-8aec63562ebe
DTSTAMP:20260421T225149Z
CATEGORIES:Bourses Minéraux & Fossiles
CLASS:PUBLIC
DESCRIPTION:
DTSTART:20240525T093000Z
DTEND:20240526T183000Z
GEO:+45.187222;+0.692222
LOCATION:Coulounieix-Chamiers Maison de Quartier Claudie Haigneré
ORGANIZER:
SEQUENCE:1
SUMMARY:Salon des Minéraux
TRANSP:OPAQUE
URL:https://www.geopolis.fr/agenda-2/toutes-les-manifestations-2/575-salon-
 des-mineraux.html
END:VEVENT
END:VCALENDAR
