BEGIN:VCALENDAR
VERSION:2.0
PRODID:-//Géopolis - Confédération Française des Acteurs en Sciences de la 
 Terre//NONSGML kigkonsult.se iCalcreator 2.30.10//
CALSCALE:GREGORIAN
METHOD:PUBLISH
UID:3aa98910-479b-4f62-8a8a-290d79f3c5b3
X-WR-CALNAME:iCagenda
X-WR-CALDESC:Event Management Extension for Joomla!
X-WR-RELCALID:3E26604A-50F4-4449-8B3E-E4F4932D05B5
X-WR-TIMEZONE:UTC
BEGIN:VTIMEZONE
TZID:UTC
END:VTIMEZONE
BEGIN:VEVENT
UID:78052615-99a0-4cb9-ab36-d797ab3b969b
DTSTAMP:20260425T012711Z
CATEGORIES:Bourses Minéraux & Fossiles
CLASS:PUBLIC
DESCRIPTION:
DTSTART:20240626T090000Z
DTEND:20240630T180000Z
GEO:+48.247665;+7.185118
LOCATION:Sainte-Marie-aux-Mines
ORGANIZER:
SEQUENCE:1
SUMMARY:59ème Mineral & Gem - SMAM 2024
TRANSP:OPAQUE
URL:https://www.geopolis.fr/agenda-2/toutes-les-manifestations-2/568-59eme-
 mineral-gem-smam-2024.html
END:VEVENT
END:VCALENDAR
