BEGIN:VCALENDAR
VERSION:2.0
PRODID:-//Géopolis - Confédération Française des Acteurs en Sciences de la 
 Terre//NONSGML kigkonsult.se iCalcreator 2.30.10//
CALSCALE:GREGORIAN
METHOD:PUBLISH
UID:8967829f-531d-4cea-b550-19538048297b
X-WR-CALNAME:iCagenda
X-WR-CALDESC:Event Management Extension for Joomla!
X-WR-RELCALID:3E26604A-50F4-4449-8B3E-E4F4932D05B5
X-WR-TIMEZONE:UTC
BEGIN:VTIMEZONE
TZID:UTC
END:VTIMEZONE
BEGIN:VEVENT
UID:7059eb24-c074-4538-86bf-50f62551d73e
DTSTAMP:20260420T193604Z
CATEGORIES:Bourses Minéraux & Fossiles
CLASS:PUBLIC
DESCRIPTION:
DTSTART:20240420T100000Z
DTEND:20240421T180000Z
GEO:+49.168213;+5.857975
LOCATION:Salle Le Paquis - Rue des Docteurs Grandjean - Conflans-en-Jarnisy
ORGANIZER;CN=:paleolor@gmail.com
SEQUENCE:1
SUMMARY:PALÉOLOR Mineral Show
TRANSP:OPAQUE
URL:https://www.geopolis.fr/agenda-2/toutes-les-manifestations-2/516-paleol
 or-mineral-show.html
END:VEVENT
END:VCALENDAR
