BEGIN:VCALENDAR
VERSION:2.0
PRODID:-//Géopolis - Confédération Française des Acteurs en Sciences de la 
 Terre//NONSGML kigkonsult.se iCalcreator 2.30.10//
CALSCALE:GREGORIAN
METHOD:PUBLISH
UID:d382a3a2-962c-4e29-bed6-27a1637f477b
X-WR-CALNAME:iCagenda
X-WR-CALDESC:Event Management Extension for Joomla!
X-WR-RELCALID:3E26604A-50F4-4449-8B3E-E4F4932D05B5
X-WR-TIMEZONE:UTC
BEGIN:VTIMEZONE
TZID:UTC
END:VTIMEZONE
BEGIN:VEVENT
UID:807aec73-9c45-4090-9cc0-e887a033291e
DTSTAMP:20260421T220525Z
CATEGORIES:Bourses Minéraux & Fossiles
CLASS:PUBLIC
DESCRIPTION:
DTSTART:20230319T100000Z
DTEND:20230319T180000Z
GEO:+48.698353;+6.1397
LOCATION:Salle de Nancy-Gentilly
ORGANIZER;CN=:alast.association@hotmail.fr
SEQUENCE:1
SUMMARY:48ème Bourse Exposition de Nancy Gentilly
TRANSP:OPAQUE
URL:https://www.geopolis.fr/agenda-2/toutes-les-manifestations-2/457-48eme-
 bourse-exposition-de-nancy-gentilly/2023-03-19-10-00.html
END:VEVENT
END:VCALENDAR
