BEGIN:VCALENDAR
VERSION:2.0
PRODID:-//Géopolis - Confédération Française des Acteurs en Sciences de la 
 Terre//NONSGML kigkonsult.se iCalcreator 2.30.10//
CALSCALE:GREGORIAN
METHOD:PUBLISH
UID:e2429083-71f7-47dc-94cc-291f06a0c102
X-WR-CALNAME:iCagenda
X-WR-CALDESC:Event Management Extension for Joomla!
X-WR-RELCALID:3E26604A-50F4-4449-8B3E-E4F4932D05B5
X-WR-TIMEZONE:UTC
BEGIN:VTIMEZONE
TZID:UTC
END:VTIMEZONE
BEGIN:VEVENT
UID:893ad920-e6a2-47ff-80b1-94007401c6d5
DTSTAMP:20260422T163253Z
CATEGORIES:Bourses Minéraux & Fossiles
CLASS:PUBLIC
DESCRIPTION:
DTSTART:20230729T100000Z
DTEND:20230730T190000Z
GEO:+48.592796;+6.50315
LOCATION:54300 Lunéville salle le Réservoir
ORGANIZER;CN=:libre.events68@gmail.com
SEQUENCE:1
SUMMARY:5ème salon européen des minéraux
TRANSP:OPAQUE
URL:https://www.geopolis.fr/agenda-2/toutes-les-manifestations-2/443-5eme-s
 alon-europeen-des-mineraux.html
END:VEVENT
END:VCALENDAR
