BEGIN:VCALENDAR
VERSION:2.0
PRODID:-//Géopolis - Confédération Française des Acteurs en Sciences de la 
 Terre//NONSGML kigkonsult.se iCalcreator 2.30.10//
CALSCALE:GREGORIAN
METHOD:PUBLISH
UID:0256b8db-6d6b-4ab7-82a6-1dbb3838592f
X-WR-CALNAME:iCagenda
X-WR-CALDESC:Event Management Extension for Joomla!
X-WR-RELCALID:3E26604A-50F4-4449-8B3E-E4F4932D05B5
X-WR-TIMEZONE:UTC
BEGIN:VTIMEZONE
TZID:UTC
END:VTIMEZONE
BEGIN:VEVENT
UID:cc612b09-acb2-4d54-be38-5c186c1c82bc
DTSTAMP:20260422T120229Z
CATEGORIES:Bourses Minéraux & Fossiles
CLASS:PUBLIC
DESCRIPTION:
DTSTART:20230930T173000Z
DTEND:20231001T100000Z
GEO:+49.38282;+3.328597
LOCATION:Espace Simone Vei
ORGANIZER;CN=:pierre.babled@hotmail.fr
SEQUENCE:1
SUMMARY:46ème Bourse Minéraux et Fossiles de SOISSONS
TRANSP:OPAQUE
URL:https://www.geopolis.fr/agenda-2/toutes-les-manifestations-2/433-46eme-
 bourse-mineraux-et-fossiles-de-soissons.html
END:VEVENT
END:VCALENDAR
