BEGIN:VCALENDAR
VERSION:2.0
PRODID:-//Géopolis - Confédération Française des Acteurs en Sciences de la 
 Terre//NONSGML kigkonsult.se iCalcreator 2.30.10//
CALSCALE:GREGORIAN
METHOD:PUBLISH
UID:06160c5a-16a6-487c-a939-7609c8493cb7
X-WR-CALNAME:iCagenda
X-WR-CALDESC:Event Management Extension for Joomla!
X-WR-RELCALID:3E26604A-50F4-4449-8B3E-E4F4932D05B5
X-WR-TIMEZONE:UTC
BEGIN:VTIMEZONE
TZID:UTC
END:VTIMEZONE
BEGIN:VEVENT
UID:88654fde-206d-4f98-920d-3c3eb6bf4fe5
DTSTAMP:20260420T201902Z
CATEGORIES:Bourses Minéraux & Fossiles
CLASS:PUBLIC
DESCRIPTION:
DTSTART:20221015T000000Z
DTEND:20221016T000000Z
GEO:+43.997566;+5.058631
LOCATION:Centre culturel des Augustins
ORGANIZER;CN=:gesbertd@yahoo.com
SEQUENCE:1
SUMMARY:13ème salon minéraux et fossiles
TRANSP:OPAQUE
URL:https://www.geopolis.fr/agenda-2/toutes-les-manifestations-2/397-13eme-
 salon-mineraux-et-fossiles.html
END:VEVENT
END:VCALENDAR
