BEGIN:VCALENDAR
VERSION:2.0
PRODID:-//Géopolis - Confédération Française des Acteurs en Sciences de la 
 Terre//NONSGML kigkonsult.se iCalcreator 2.30.10//
CALSCALE:GREGORIAN
METHOD:PUBLISH
UID:ef69d731-2829-48bb-b43f-b301650050ff
X-WR-CALNAME:iCagenda
X-WR-CALDESC:Event Management Extension for Joomla!
X-WR-RELCALID:3E26604A-50F4-4449-8B3E-E4F4932D05B5
X-WR-TIMEZONE:UTC
BEGIN:VTIMEZONE
TZID:UTC
END:VTIMEZONE
BEGIN:VEVENT
UID:161b188b-11ae-4f82-a4de-dba64444cfa0
DTSTAMP:20260420T061736Z
CATEGORIES:Bourses Minéraux & Fossiles
CLASS:PUBLIC
DESCRIPTION:
DTSTART:20220305T100000Z
DTEND:20220306T183000Z
GEO:+48.447056;+2.181514
LOCATION:Salle des fêtes
ORGANIZER;CN=:mart.michel4@gmail.com
SEQUENCE:1
SUMMARY:1er SALON INTERNATIONAL MINERAUX - FOSSILES - BIJOUX DE MORIGNY-CHA
 MPIGNY (91)
TRANSP:OPAQUE
URL:https://www.geopolis.fr/agenda-2/toutes-les-manifestations-2/357-1er-sa
 lon-international-mineraux-fossiles-bijoux-de-morigny-champigny.html
END:VEVENT
END:VCALENDAR
