BEGIN:VCALENDAR
VERSION:2.0
PRODID:-//Géopolis - Confédération Française des Acteurs en Sciences de la 
 Terre//NONSGML kigkonsult.se iCalcreator 2.30.10//
CALSCALE:GREGORIAN
METHOD:PUBLISH
UID:f955e8a2-04c4-4168-a0bb-5e0a4a169b3d
X-WR-CALNAME:iCagenda
X-WR-CALDESC:Event Management Extension for Joomla!
X-WR-RELCALID:3E26604A-50F4-4449-8B3E-E4F4932D05B5
X-WR-TIMEZONE:UTC
BEGIN:VTIMEZONE
TZID:UTC
END:VTIMEZONE
BEGIN:VEVENT
UID:eed2e42f-1467-4eba-8414-1163205c4dc9
DTSTAMP:20260420T155153Z
CATEGORIES:Bourses Minéraux & Fossiles
CLASS:PUBLIC
DESCRIPTION:
DTSTART:20220320T100000Z
DTEND:20220320T180000Z
GEO:+46.388371;+6.486111
LOCATION:Chateau de Ripaille\, 83 Avenue de Ripaille\, 74200 Thonon-les-Bai
 ns
ORGANIZER;CN=:cristalsources@hotmail.fr
SEQUENCE:1
SUMMARY:6ème bourse aux minéraux -Thonon-les-Bains (74)
TRANSP:OPAQUE
URL:https://www.geopolis.fr/agenda-2/toutes-les-manifestations-2/342-6eme-b
 ourse-aux-mineraux/2022-03-20-10-00.html
END:VEVENT
END:VCALENDAR
