BEGIN:VCALENDAR
VERSION:2.0
PRODID:-//Géopolis - Confédération Française des Acteurs en Sciences de la 
 Terre//NONSGML kigkonsult.se iCalcreator 2.30.10//
CALSCALE:GREGORIAN
METHOD:PUBLISH
UID:378813df-b4d5-473c-8578-21aad69b78ee
X-WR-CALNAME:iCagenda
X-WR-CALDESC:Event Management Extension for Joomla!
X-WR-RELCALID:3E26604A-50F4-4449-8B3E-E4F4932D05B5
X-WR-TIMEZONE:UTC
BEGIN:VTIMEZONE
TZID:UTC
END:VTIMEZONE
BEGIN:VEVENT
UID:fe828225-a94e-4f85-860c-00ec17bdfd24
DTSTAMP:20260420T174922Z
CATEGORIES:Bourses Minéraux & Fossiles
CLASS:PUBLIC
DESCRIPTION;ALTREP="CID:<FFFF__=0ABBE548DFE235B58f9e8a93d@coffeebean.com>":
 Sur une surface de 800 m2\, environ quarante exposants venant de France et
  de l'étranger présenteront des milliers de minéraux et fossiles\, pierres
  roulées et bijoux réalisés en pierres diverses du monde entier.\nCette an
 née\, une exposition exeptionnelle\, inédite\, conçue et réalisée par l' A
 REMPA dévoilera aux visiteurs les richesses de notre patrimoine:\n' LES TR
 ESORS MINERALOGIQUES DE L' ANJOU '\nEntrée : 4€&nbsp\; &nbsp\; &nbsp\;Tari
 f réduit :2€&nbsp\; &nbsp\; &nbsp\; Gratuit jusqu'à 10 ans\n&nbsp\;\n&nbsp
 \;
DTSTART:20211120T100000Z
DTEND:20211121T180000Z
GEO:+47.477669;-0.559337
LOCATION:Les Greniers
ORGANIZER;CN=:sylvieguy.renou@wanadoo.fr
SEQUENCE:1
SUMMARY:38ème Salon Minéraux et Fossiles - Angers (49)
TRANSP:OPAQUE
URL:https://www.geopolis.fr/agenda-2/toutes-les-manifestations-2/333-38eme-
 salon-mineraux-et-fossiles-d-angers.html
END:VEVENT
END:VCALENDAR
