BEGIN:VCALENDAR
VERSION:2.0
PRODID:-//Géopolis - Confédération Française des Acteurs en Sciences de la 
 Terre//NONSGML kigkonsult.se iCalcreator 2.30.10//
CALSCALE:GREGORIAN
METHOD:PUBLISH
UID:187f8dff-64de-4f77-94e4-bfd01e4b7881
X-WR-CALNAME:iCagenda
X-WR-CALDESC:Event Management Extension for Joomla!
X-WR-RELCALID:3E26604A-50F4-4449-8B3E-E4F4932D05B5
X-WR-TIMEZONE:UTC
BEGIN:VTIMEZONE
TZID:UTC
END:VTIMEZONE
BEGIN:VEVENT
UID:ec3ebff4-1a6d-4f0c-a264-558b1651d9d1
DTSTAMP:20260425T040221Z
CATEGORIES:Bourses Minéraux & Fossiles
CLASS:PUBLIC
DESCRIPTION;ALTREP="CID:<FFFF__=0ABBE548DFE235B58f9e8a93d@coffeebean.com>":
 950 exposants et 30 cr&eacute\;ateurs seront pr&eacute\;sents pour partage
 r leur passion autour des pierres\, min&eacute\;raux et fossiles avec des 
 expositions\, des animations\, des conf&eacute\;rences et des rencontres.
DTSTART:20160623T090000Z
DTEND:20160626T180000Z
GEO:00;0
LOCATION:Zone Minéral & Zone Gem
ORGANIZER:
SEQUENCE:1
SUMMARY:Mineral & Gem
TRANSP:OPAQUE
URL:https://www.geopolis.fr/agenda-2/toutes-les-manifestations-2/3-mineral-
 gem.html
END:VEVENT
END:VCALENDAR
