BEGIN:VCALENDAR
VERSION:2.0
PRODID:-//Géopolis - Confédération Française des Acteurs en Sciences de la 
 Terre//NONSGML kigkonsult.se iCalcreator 2.30.10//
CALSCALE:GREGORIAN
METHOD:PUBLISH
UID:193d6433-1221-4aae-a7c6-149019e2ed54
X-WR-CALNAME:iCagenda
X-WR-CALDESC:Event Management Extension for Joomla!
X-WR-RELCALID:3E26604A-50F4-4449-8B3E-E4F4932D05B5
X-WR-TIMEZONE:UTC
BEGIN:VTIMEZONE
TZID:UTC
END:VTIMEZONE
BEGIN:VEVENT
UID:3aaf1548-b52a-40b2-8df8-092b9ca3b068
DTSTAMP:20260425T120415Z
CATEGORIES:Bourses Minéraux & Fossiles
CLASS:PUBLIC
DESCRIPTION:
DTSTART:20210320T100000Z
DTEND:20210321T180000Z
GEO:+46.388386;+6.486077
LOCATION:Chateau de Ripaille
ORGANIZER;CN=:cristalsources@hotmail.fr
SEQUENCE:1
SUMMARY:6ème bourse aux minéraux - Thonon-les-Bains (74)
TRANSP:OPAQUE
URL:https://www.geopolis.fr/agenda-2/toutes-les-manifestations-2/296-6eme-b
 ourse-aux-mineraux.html
END:VEVENT
END:VCALENDAR
