BEGIN:VCALENDAR
VERSION:2.0
PRODID:-//Géopolis - Confédération Française des Acteurs en Sciences de la 
 Terre//NONSGML kigkonsult.se iCalcreator 2.30.10//
CALSCALE:GREGORIAN
METHOD:PUBLISH
UID:b8c03cef-59c7-4908-9624-9f517d3f3290
X-WR-CALNAME:iCagenda
X-WR-CALDESC:Event Management Extension for Joomla!
X-WR-RELCALID:3E26604A-50F4-4449-8B3E-E4F4932D05B5
X-WR-TIMEZONE:UTC
BEGIN:VTIMEZONE
TZID:UTC
END:VTIMEZONE
BEGIN:VEVENT
UID:35b6151f-ab25-4e66-b41a-54fa2f08c5ab
DTSTAMP:20260421T205308Z
CATEGORIES:Bourses Minéraux & Fossiles
CLASS:PUBLIC
DESCRIPTION;ALTREP="CID:<FFFF__=0ABBE548DFE235B58f9e8a93d@coffeebean.com>":
 20ème MINERAL EVENTS\nJournées Passion-Découverte\nVendredi 30\, Samedi 31
  Octobre &amp\; Dimanche 1er Novembre 2020\n10h à 19h\n\nMINÉRAUX - FOSSIL
 ES - METEORITES - GEMMES \nCristal &amp\; Bien-Être – Bijoux de Créateurs
 \n\nExposition - Vente - Expertises\nConférences - Ateliers Enfants\n&nbsp
 \;\nPalais des Congrès\nPort Santa Lucia – SAINT-RAPHAËL \n\nUN EVENEMENT 
 ANNUEL QUI SE RENOUVELLE\n\nLa terre\, gardienne du temps et du souvenir d
 ’époques lointaines\, recèle des Fossiles et des Minéraux d’une valeur sci
 entifique inestimable et des Gemmes d’une beauté remarquable.\n\nNouveauté
 s ou classiques\, les plus beaux Minéraux bruts ou polis\, Gemmes taillées
 \, Fossiles\, Météorites cueillis à travers le monde vous sont proposés pa
 r les 55 exposants venus de tous pays sur 1000m².&nbsp\; Ils vous invitent
  à un voyage dans l’imaginaire sur les chemins mêlés de la connaissance et
  du rêve. Du Cailloux à 1€ à la pièce de Musée&nbsp\;! \n\nL’esprit du Sal
 on est résolument ouvert à tous les publics\, Amateurs\, Collectionneurs\,
  Enfants et à toute personne cherchant à découvrir l’univers magique des M
 inéraux.\n\nA ce titre un spectacle de conte familial en vidéo projection 
 sera chaque jour offert aux petits et aux grands&nbsp\;!\n\nDécouverte des
  bienfaits des cristaux riches en énergie avec nos nombreux exposants spéc
 ialisés en Lithothérapie.\n\nExposition&nbsp\;: Histoire des Carrières du 
 Dramont.\n\nEntrée 7 euros\, 3 euros pour les enfants de moins de 10 ans. 
 \n\n&nbsp\;Guillaume BLANC Organisation\n&nbsp\;\n06.47.73.89.25\nblancgui
 llaume@orange.fr\nFacebook&nbsp\;: @France Minéral Events\nhttps:// France
 -minéral-events.com
DTSTART:20201030T100000Z
DTEND:20201101T190000Z
GEO:+43.414173;+6.780443
LOCATION:Palais des Congrès - Port Santa Lucia - 83700 ST RAPHAEL
ORGANIZER;CN=:blancguillaume@orange.fr
SEQUENCE:1
SUMMARY:MINERAL Events - St-Raphaël (83)
TRANSP:OPAQUE
URL:https://www.geopolis.fr/agenda-2/toutes-les-manifestations-2/293-minera
 l-events-st-raphael.html
END:VEVENT
END:VCALENDAR
