BEGIN:VCALENDAR
VERSION:2.0
PRODID:-//Géopolis - Confédération Française des Acteurs en Sciences de la 
 Terre//NONSGML kigkonsult.se iCalcreator 2.30.10//
CALSCALE:GREGORIAN
METHOD:PUBLISH
UID:76066e65-cb92-4532-be53-7c8a0165feb0
X-WR-CALNAME:iCagenda
X-WR-CALDESC:Event Management Extension for Joomla!
X-WR-RELCALID:3E26604A-50F4-4449-8B3E-E4F4932D05B5
X-WR-TIMEZONE:UTC
BEGIN:VTIMEZONE
TZID:UTC
END:VTIMEZONE
BEGIN:VEVENT
UID:dcdb2eb3-a33c-4bdf-8d56-82d1c1d3e2cc
DTSTAMP:20260422T154522Z
CATEGORIES:Bourses Minéraux & Fossiles
CLASS:PUBLIC
DESCRIPTION;ALTREP="CID:<FFFF__=0ABBE548DFE235B58f9e8a93d@coffeebean.com>":
 Bourse d'échanges située au Bugue \, Dordogne \, Périgord noir.\nUne très 
 grande salle très bien éclairée près de la Vézère \,Parking trés facile.\n
 réservation : lebuguemineral@gmail.com\nou 14 av. de la libération 24260 L
 e Bugue\nTable de 1m83x75\n1 table : 5€\n2 tables : 10€\n3 tables : 15€
DTSTART:20210123T090000Z
DTEND:20210123T150000Z
GEO:+44.909874;+0.931853
LOCATION:Salle Eugène Le Roy
ORGANIZER;CN=:lebuguemineral@gmail.com
SEQUENCE:1
SUMMARY:Bourse d'échanges minéraux et fossiles - Le Bugue (24)
TRANSP:OPAQUE
URL:https://www.geopolis.fr/agenda-2/toutes-les-manifestations-2/288-bourse
 -d-echanges-mineraux-et-fossiles.html
END:VEVENT
END:VCALENDAR
