BEGIN:VCALENDAR
VERSION:2.0
PRODID:-//Géopolis - Confédération Française des Acteurs en Sciences de la 
 Terre//NONSGML kigkonsult.se iCalcreator 2.30.10//
CALSCALE:GREGORIAN
METHOD:PUBLISH
UID:6287fc7b-0727-4b0e-b418-e78507f76da4
X-WR-CALNAME:iCagenda
X-WR-CALDESC:Event Management Extension for Joomla!
X-WR-RELCALID:3E26604A-50F4-4449-8B3E-E4F4932D05B5
X-WR-TIMEZONE:UTC
BEGIN:VTIMEZONE
TZID:UTC
END:VTIMEZONE
BEGIN:VEVENT
UID:333d7c5c-211f-4205-a89f-47c7d2f74e8c
DTSTAMP:20260420T181821Z
CATEGORIES:Bourses Minéraux & Fossiles
CLASS:PUBLIC
DESCRIPTION;ALTREP="CID:<FFFF__=0ABBE548DFE235B58f9e8a93d@coffeebean.com>":
 &nbsp\;\n&nbsp\;\n&nbsp\;\nNous vous attendons ce week-end là avec&nbsp\;:
 \n&nbsp\;\n- pour la partie pédago-ludique : des jeux en bois\, des devine
 ttes\, des quiz\, des tombolas…des expositions sur différents thèmes (les 
 dinosaures\, les trésors cachés de Provence\, de saint Chamas\, l'or en Fr
 ance\, le couloir du temps...) et des travaux d’enfants sur les dinosaures
 .\n&nbsp\;\n-pour les enfants&nbsp\;: un conteur Alain Plas les emportera 
 au pays de Chouchou.\n&nbsp\;\n-pour les jeunes&nbsp\;: une balade virtuel
 le au temps des dinosaures\n&nbsp\;\n- pour la partie commerciale\, plus d
 'une vingtaine d'exposants vous présenteront leur stand.\n&nbsp\;\nTout se
 ra prêt pour le vendredi 12 juin 2020 à 13 h 30 pour les écoles.\n&nbsp\;
 \n&nbsp\;\n&nbsp\;
DTSTART:20200612T133000Z
DTEND:20200614T183000Z
GEO:+43.556511;+5.033112
LOCATION:Gymnase Mimi Bonifay
ORGANIZER;CN=:mamyxfois@hotmail.fr
SEQUENCE:1
SUMMARY:43ème Salon Minéraux et Fossiles - Saint-Chamas (13)
TRANSP:OPAQUE
URL:https://www.geopolis.fr/agenda-2/toutes-les-manifestations-2/277-43eme-
 salon-mineraux-et-fossiles.html
END:VEVENT
END:VCALENDAR
