BEGIN:VCALENDAR
VERSION:2.0
PRODID:-//Géopolis - Confédération Française des Acteurs en Sciences de la 
 Terre//NONSGML kigkonsult.se iCalcreator 2.30.10//
CALSCALE:GREGORIAN
METHOD:PUBLISH
UID:13370a27-8e78-4e58-8518-fc85f1970e1b
X-WR-CALNAME:iCagenda
X-WR-CALDESC:Event Management Extension for Joomla!
X-WR-RELCALID:3E26604A-50F4-4449-8B3E-E4F4932D05B5
X-WR-TIMEZONE:UTC
BEGIN:VTIMEZONE
TZID:UTC
END:VTIMEZONE
BEGIN:VEVENT
UID:2931c196-3242-4a06-b5bc-991ec3eef69a
DTSTAMP:20260423T034922Z
CATEGORIES:Bourses Minéraux & Fossiles
CLASS:PUBLIC
DESCRIPTION:
DTSTART:20200222T100000Z
DTEND:20200223T000000Z
GEO:+48.974155;+2.347641
LOCATION:Salle des Fêtes de Montmagny
ORGANIZER;CN=:bebaret@aol.com
SEQUENCE:1
SUMMARY:34ème Bourse aux Minéraux et Fossiles - Montmagny (95)
TRANSP:OPAQUE
URL:https://www.geopolis.fr/agenda-2/toutes-les-manifestations-2/242-34eme-
 bourse-aux-mineraux-et-fossiles-de-montmagny.html
END:VEVENT
END:VCALENDAR
