BEGIN:VCALENDAR
VERSION:2.0
PRODID:-//Géopolis - Confédération Française des Acteurs en Sciences de la 
 Terre//NONSGML kigkonsult.se iCalcreator 2.30.10//
CALSCALE:GREGORIAN
METHOD:PUBLISH
UID:01628596-6a65-430e-ac58-d31124ef8ffc
X-WR-CALNAME:iCagenda
X-WR-CALDESC:Event Management Extension for Joomla!
X-WR-RELCALID:3E26604A-50F4-4449-8B3E-E4F4932D05B5
X-WR-TIMEZONE:UTC
BEGIN:VTIMEZONE
TZID:UTC
END:VTIMEZONE
BEGIN:VEVENT
UID:c7d773a5-86f0-43c0-b29c-2512147369f9
DTSTAMP:20260420T061131Z
CATEGORIES:Bourses Minéraux & Fossiles
CLASS:PUBLIC
DESCRIPTION;ALTREP="CID:<FFFF__=0ABBE548DFE235B58f9e8a93d@coffeebean.com>":
 &nbsp\;\nHEXAGONE MINERAL vous donne rendez-vous les 9 et 10 novembre 2019
  à AUCH au cœur de la Gascogne pour la 1ère édition du Salon des minéraux 
 fossiles et bijoux. Cet événement se déroulera dans la Salle des Cordelier
 s\, rue Camille Desmoulins\, en plein centre de la cité. Pour animer cet é
 vénement\, des exposants professionnels et amateurs originaires des quatre
  coins de France montreront au public leurs dernières nouveautés en proven
 ance du monde entier\, de France mais aussi du Grand Sud-Ouest. Comme dans
  tous nos salons\, un très large choix de minéraux\, fossiles et bijoux se
 ra proposé à la vente pour le plus grand bonheur des petits et des grands.
  Pour répondre toujours plus aux attentes du public\, une expertise gratui
 te sera aussi proposée par les organisateurs à celles et ceux qui souhaite
 nt faire déterminer leurs découvertes minéralogiques ou paléontologiques. 
 Ce salon devrait attirer les passionnés tout en sensibilisant les néophyte
 s et les plus jeunes aux merveilles de la Terre.\nOuverture au public : de
  10h à 19h le samedi et de 10h à 18h le dimanche.\nTarif visiteurs : 4 € à
  partir de 12 ans \; gratuit pour les moins de 12 ans et les personnes han
 dicapées.\nEspace détente&nbsp\;: service buvette et petite restauration.
 \nStationnement&nbsp\;: parking gratuit&nbsp\;!\nRetrouvez tous nos salons
  sur notre site web&nbsp\;: http://www.france-mineraux.com
DTSTART:20191109T100000Z
DTEND:20191110T180000Z
GEO:+43.647781;+0.584125
LOCATION:Salle des CORDELIERS
ORGANIZER;CN=:davidchauvaud@yahoo.fr
SEQUENCE:1
SUMMARY:1er Salon Minéraux Fossiles Bijoux - Auch (32)
TRANSP:OPAQUE
URL:https://www.geopolis.fr/agenda-2/toutes-les-manifestations-2/238-1er-sa
 lon-mineraux-fossiles-bijoux-de-auch-32.html
END:VEVENT
END:VCALENDAR
