BEGIN:VCALENDAR
VERSION:2.0
PRODID:-//Géopolis - Confédération Française des Acteurs en Sciences de la 
 Terre//NONSGML kigkonsult.se iCalcreator 2.30.10//
CALSCALE:GREGORIAN
METHOD:PUBLISH
UID:f4e7bb1e-cc66-4dce-b7cf-9aaf1a147535
X-WR-CALNAME:iCagenda
X-WR-CALDESC:Event Management Extension for Joomla!
X-WR-RELCALID:3E26604A-50F4-4449-8B3E-E4F4932D05B5
X-WR-TIMEZONE:UTC
BEGIN:VTIMEZONE
TZID:UTC
END:VTIMEZONE
BEGIN:VEVENT
UID:ab8c8488-1afb-46e1-8153-919632025c54
DTSTAMP:20260422T111124Z
CATEGORIES:Bourses Minéraux & Fossiles
CLASS:PUBLIC
DESCRIPTION:
DTSTART:20200314T100000Z
DTEND:20200314T180000Z
GEO:+46.388294;+6.486044
LOCATION:Château de Ripaill
ORGANIZER;CN=:infos@cristalsources.com
SEQUENCE:1
SUMMARY:6ème bourse aux minéraux - Thonon-les-Bains (74)
TRANSP:OPAQUE
URL:https://www.geopolis.fr/agenda-2/toutes-les-manifestations-2/223-6eme-b
 ourse-aux-mineraux/2020-03-14-10-00.html
END:VEVENT
END:VCALENDAR
