BEGIN:VCALENDAR
VERSION:2.0
PRODID:-//Géopolis - Confédération Française des Acteurs en Sciences de la 
 Terre//NONSGML kigkonsult.se iCalcreator 2.30.10//
CALSCALE:GREGORIAN
METHOD:PUBLISH
UID:3e76adb8-cb85-4555-82f2-ba0365c9eb7e
X-WR-CALNAME:iCagenda
X-WR-CALDESC:Event Management Extension for Joomla!
X-WR-RELCALID:3E26604A-50F4-4449-8B3E-E4F4932D05B5
X-WR-TIMEZONE:UTC
BEGIN:VTIMEZONE
TZID:UTC
END:VTIMEZONE
BEGIN:VEVENT
UID:08f605f8-28aa-4ace-af88-f2fbb1059e87
DTSTAMP:20260425T150600Z
CATEGORIES:Bourses Minéraux & Fossiles
CLASS:PUBLIC
DESCRIPTION;ALTREP="CID:<FFFF__=0ABBE548DFE235B58f9e8a93d@coffeebean.com>":
 Buvette sur place - Salle climatis&eacute\;e
DTSTART:20160910T100000Z
DTEND:20160911T180000Z
GEO:+44.811348;-0.630422
LOCATION:Salle Bellegrave - Avenue du Colonel Robert Jacqui - 33600 PESSAC
ORGANIZER;CN=:eric.lucalle@sfr.fr
SEQUENCE:1
SUMMARY:20 ème SALON MINERAUX\, FOSSILES & GEMMES DE PESSAC (33)
TRANSP:OPAQUE
URL:https://www.geopolis.fr/agenda-2/toutes-les-manifestations-2/22-20-eme-
 salon-mineraux-fossiles-gemmes-de-pessac-33.html
END:VEVENT
END:VCALENDAR
