BEGIN:VCALENDAR
VERSION:2.0
PRODID:-//Géopolis - Confédération Française des Acteurs en Sciences de la 
 Terre//NONSGML kigkonsult.se iCalcreator 2.30.10//
CALSCALE:GREGORIAN
METHOD:PUBLISH
UID:306027ec-0169-48e3-a24d-9bff42a3516a
X-WR-CALNAME:iCagenda
X-WR-CALDESC:Event Management Extension for Joomla!
X-WR-RELCALID:3E26604A-50F4-4449-8B3E-E4F4932D05B5
X-WR-TIMEZONE:UTC
BEGIN:VTIMEZONE
TZID:UTC
END:VTIMEZONE
BEGIN:VEVENT
UID:59f1acf2-2902-41ba-b93b-1f56b90ae42e
DTSTAMP:20260422T231429Z
CATEGORIES:Bourses Minéraux & Fossiles
CLASS:PUBLIC
DESCRIPTION:
DTSTART:20190817T090000Z
DTEND:20190818T180000Z
GEO:+45.914455;+3.073665
LOCATION:Centre Culturel de La Mouniaude
ORGANIZER;CN=:christophe.serror@free.fr
SEQUENCE:1
SUMMARY:GEOLOGIX
TRANSP:OPAQUE
URL:https://www.geopolis.fr/agenda-2/toutes-les-manifestations-2/166-geolog
 ix.html
END:VEVENT
END:VCALENDAR
