BEGIN:VCALENDAR
VERSION:2.0
PRODID:-//Géopolis - Confédération Française des Acteurs en Sciences de la 
 Terre//NONSGML kigkonsult.se iCalcreator 2.30.10//
CALSCALE:GREGORIAN
METHOD:PUBLISH
UID:8015d366-973c-4db3-9925-6e8535cd2db7
X-WR-CALNAME:iCagenda
X-WR-CALDESC:Event Management Extension for Joomla!
X-WR-RELCALID:3E26604A-50F4-4449-8B3E-E4F4932D05B5
X-WR-TIMEZONE:UTC
BEGIN:VTIMEZONE
TZID:UTC
END:VTIMEZONE
BEGIN:VEVENT
UID:2e2a7152-931f-46b9-8bf8-6e07a8b830a0
DTSTAMP:20260423T031755Z
CATEGORIES:Bourses Minéraux & Fossiles
CLASS:PUBLIC
DESCRIPTION:
DTSTART:20190223T093000Z
DTEND:20190224T180000Z
GEO:+45.9198;+3.066655
LOCATION:Halle des Sports de Châtel Guyon
ORGANIZER;CN=:christophe.serror@free.fr
SEQUENCE:1
SUMMARY:GEOLOGIX
TRANSP:OPAQUE
URL:https://www.geopolis.fr/agenda-2/toutes-les-manifestations-2/165-geolog
 ix.html
END:VEVENT
END:VCALENDAR
