BEGIN:VCALENDAR
VERSION:2.0
PRODID:-//Géopolis - Confédération Française des Acteurs en Sciences de la 
 Terre//NONSGML kigkonsult.se iCalcreator 2.30.10//
CALSCALE:GREGORIAN
METHOD:PUBLISH
UID:98f71b67-bc9d-42ee-9ae2-a937e32b81a6
X-WR-CALNAME:iCagenda
X-WR-CALDESC:Event Management Extension for Joomla!
X-WR-RELCALID:3E26604A-50F4-4449-8B3E-E4F4932D05B5
X-WR-TIMEZONE:UTC
BEGIN:VTIMEZONE
TZID:UTC
END:VTIMEZONE
BEGIN:VEVENT
UID:fcc745d1-55bd-4e30-b7e9-360807f3a93a
DTSTAMP:20260424T055734Z
CATEGORIES:Bourses Minéraux & Fossiles
CLASS:PUBLIC
DESCRIPTION:
DTSTART:20180512T090000Z
DTEND:20180512T090000Z
GEO:+47.25721;+5.047291
LOCATION:Domois \, commune de Fenay au sud de Dijon
ORGANIZER;CN=:jacquestino@orange.fr
SEQUENCE:1
SUMMARY:Bourse d'échanges de minéraux et de fossiles - Domois
TRANSP:OPAQUE
URL:https://www.geopolis.fr/agenda-2/toutes-les-manifestations-2/101-bourse
 -d-echanges-de-mineraux-et-de-fossiles/2018-05-12-09-00.html
END:VEVENT
END:VCALENDAR
